BEGIN:VCALENDAR
VERSION:2.0
PRODID:icalendar-ruby
CALSCALE:GREGORIAN
METHOD:PUBLISH
BEGIN:VEVENT
DTSTAMP:20260422T021750Z
UID:20-1710400@unityjax.org
DTSTART:20261005T223000Z
DTEND:20261005T233000Z
CLASS:PUBLIC
CREATED:20260421T210421
DESCRIPTION:
LAST-MODIFIED:20260421T210421
LOCATION:Grenson Hall
SUMMARY:AA Free to Be
URL;VALUE=URI:https://www.unityjax.org/events/aa-free-to-be--20/2026-10-05
ATTACH;FILENAME=f2b.png;FMTTYPE=image/png:https://dq5pwpg1q8ru0.cloudfront.
 net/2025/07/06/14/12/43/fc2bdbf1-1ca6-4ca9-b5f9-cc2332ff7641/f2b.png
END:VEVENT
END:VCALENDAR
