BEGIN:VCALENDAR
VERSION:2.0
PRODID:icalendar-ruby
CALSCALE:GREGORIAN
METHOD:PUBLISH
BEGIN:VEVENT
DTSTAMP:20260419T204452Z
UID:48-1697653@unityjax.org
DTSTART:20260927T134500Z
DTEND:20260927T144500Z
CLASS:PUBLIC
CREATED:20260419T161016
DESCRIPTION:
LAST-MODIFIED:20260419T161016
LOCATION:Minister's Office
SUMMARY:A Course In Miracles
URL;VALUE=URI:https://www.unityjax.org/events/a-course-in-miracles/2026-09-
 27
ATTACH;FILENAME=COURSE IN MIRACLES GRAPHIC.jpg;FMTTYPE=image/jpeg:https://d
 q5pwpg1q8ru0.cloudfront.net/2025/12/30/21/16/12/02b2bd6f-1690-492b-94e9-71
 066cf9746c/COURSE%20IN%20MIRACLES%20GRAPHIC.jpg
END:VEVENT
END:VCALENDAR
